BEGIN:VCALENDAR
VERSION:2.0
PRODID:-//https://www.daiquirideckvenice.cdmsrq.info///NONSGML kigkonsult.se iCalcreator 2.10.15//
METHOD:PUBLISH
BEGIN:VEVENT
UID:20260425T231451UTC-2769ILPCJR@https://www.daiquirideckvenice.cdmsrq.inf
 o/
DTSTAMP:20260425T231451Z
DESCRIPTION: https://www.daiquirideckvenice.cdmsrq.info/component/rseventsp
 ro/event/4051-5p-sean-adam-walsh?Itemid=101
DTSTART;VALUE=DATE:20260522
LOCATION:Daiquiri Deck South Siesta Key (1250 Stickney Point Rd\, Siesta Ke
 y\, FL 34242)
SUMMARY:5p Sean Adam Walsh
URL:https://www.daiquirideckvenice.cdmsrq.info/component/rseventspro/event/
 4051-5p-sean-adam-walsh?Itemid=101
END:VEVENT
END:VCALENDAR
