BEGIN:VCALENDAR
VERSION:2.0
PRODID:-//https://www.daiquirideckvenice.cdmsrq.info///NONSGML kigkonsult.se iCalcreator 2.10.15//
METHOD:PUBLISH
BEGIN:VEVENT
UID:20260425T190655UTC-3659wGlfpw@https://www.daiquirideckvenice.cdmsrq.inf
 o/
DTSTAMP:20260425T190655Z
DESCRIPTION: https://www.daiquirideckvenice.cdmsrq.info/component/rseventsp
 ro/event/4048-5p-nick-lavalley?Itemid=101
DTSTART;VALUE=DATE:20260519
LOCATION:Daiquiri Deck South Siesta Key (1250 Stickney Point Rd\, Siesta Ke
 y\, FL 34242)
SUMMARY:5p Nick Lavalley
URL:https://www.daiquirideckvenice.cdmsrq.info/component/rseventspro/event/
 4048-5p-nick-lavalley?Itemid=101
END:VEVENT
END:VCALENDAR
