BEGIN:VCALENDAR
VERSION:2.0
PRODID:-//https://www.daiquirideckvenice.cdmsrq.info///NONSGML kigkonsult.se iCalcreator 2.10.15//
METHOD:PUBLISH
BEGIN:VEVENT
UID:20260425T173155UTC-5914rU0E11@https://www.daiquirideckvenice.cdmsrq.inf
 o/
DTSTAMP:20260425T173155Z
DESCRIPTION: https://www.daiquirideckvenice.cdmsrq.info/component/rseventsp
 ro/event/4047-5p-jake-ariel?Itemid=101
DTSTART;VALUE=DATE:20260518
LOCATION:Daiquiri Deck South Siesta Key (1250 Stickney Point Rd\, Siesta Ke
 y\, FL 34242)
SUMMARY:5p Jake & Ariel
URL:https://www.daiquirideckvenice.cdmsrq.info/component/rseventspro/event/
 4047-5p-jake-ariel?Itemid=101
END:VEVENT
END:VCALENDAR
