BEGIN:VCALENDAR
VERSION:2.0
PRODID:-//https://www.daiquirideckvenice.cdmsrq.info///NONSGML kigkonsult.se iCalcreator 2.10.15//
METHOD:PUBLISH
BEGIN:VEVENT
UID:20260425T142625UTC-0189k7O2As@https://www.daiquirideckvenice.cdmsrq.inf
 o/
DTSTAMP:20260425T142625Z
DESCRIPTION: https://www.daiquirideckvenice.cdmsrq.info/component/rseventsp
 ro/event/4045-12p-brian-mansano?Itemid=101
DTSTART;VALUE=DATE:20260516
LOCATION:Daiquiri Deck South Siesta Key (1250 Stickney Point Rd\, Siesta Ke
 y\, FL 34242)
SUMMARY:12p Brian Mansano   
URL:https://www.daiquirideckvenice.cdmsrq.info/component/rseventspro/event/
 4045-12p-brian-mansano?Itemid=101
END:VEVENT
END:VCALENDAR
