BEGIN:VCALENDAR
VERSION:2.0
PRODID:-//https://www.daiquirideckvenice.cdmsrq.info///NONSGML kigkonsult.se iCalcreator 2.10.15//
METHOD:PUBLISH
BEGIN:VEVENT
UID:20260425T132328UTC-5495tfsr1s@https://www.daiquirideckvenice.cdmsrq.inf
 o/
DTSTAMP:20260425T132328Z
DESCRIPTION: https://www.daiquirideckvenice.cdmsrq.info/component/rseventsp
 ro/event/4044-5p-j-santi-trio?Itemid=101
DTSTART;VALUE=DATE:20260515
LOCATION:Daiquiri Deck South Siesta Key (1250 Stickney Point Rd\, Siesta Ke
 y\, FL 34242)
SUMMARY:5p J Santi Trio
URL:https://www.daiquirideckvenice.cdmsrq.info/component/rseventspro/event/
 4044-5p-j-santi-trio?Itemid=101
END:VEVENT
END:VCALENDAR
